BEGIN:VCALENDAR
VERSION:2.0
PRODID:-//Foreseeable Future Foundation - ECPv6.15.20//NONSGML v1.0//EN
CALSCALE:GREGORIAN
METHOD:PUBLISH
X-WR-CALNAME:Foreseeable Future Foundation
X-ORIGINAL-URL:https://foreseeablefuture.org
X-WR-CALDESC:Events for Foreseeable Future Foundation
REFRESH-INTERVAL;VALUE=DURATION:PT1H
X-Robots-Tag:noindex
X-PUBLISHED-TTL:PT1H
BEGIN:VTIMEZONE
TZID:UTC
BEGIN:STANDARD
TZOFFSETFROM:+0000
TZOFFSETTO:+0000
TZNAME:UTC
DTSTART:20170101T000000
END:STANDARD
END:VTIMEZONE
BEGIN:VEVENT
DTSTART;TZID=UTC:20180728T113000
DTEND;TZID=UTC:20180728T123000
DTSTAMP:20260425T111011
CREATED:20180717T021055Z
LAST-MODIFIED:20190210T060350Z
UID:10000013-1532777400-1532781000@foreseeablefuture.org
SUMMARY:Swerve In The Dark
DESCRIPTION:Come join us for a spin at Swerve Fitness to raise money for adaptive gym equipment for the visually impaired. \nIndividual and group tickets available!
URL:https://foreseeablefuture.org/event/swerve-jul2018/
LOCATION:Swerve Fitness — Flatiron\, 30 West 18th Street\, New York\, New York\, 10011\, United States
ATTACH;FMTTYPE=image/png:https://foreseeablefuture.org/wp-content/uploads/2018/07/event-2018-07-28-swerve.png
END:VEVENT
BEGIN:VEVENT
DTSTART;VALUE=DATE:20180607
DTEND;VALUE=DATE:20180608
DTSTAMP:20260425T111011
CREATED:20180608T030033Z
LAST-MODIFIED:20190210T060338Z
UID:10000012-1528329600-1528415999@foreseeablefuture.org
SUMMARY:Foreseeable Future Foundation Happy Hour!
DESCRIPTION:Join us for Happy Hour at BlockHeads!\n60 3rd Ave\, New York\, NY 10003\nRSVP @ EVENTS@FORESEEABLEFUTUREFOUNDATION.COM \nBLOCKHEADS\n60 3 RD AVE \, NEW YORK\,\nNY. BETWEEN E 10TH ST \n6pm – 8pm
URL:https://foreseeablefuture.org/event/foreseeable-future-foundation-happy-hour/
LOCATION:NY
END:VEVENT
BEGIN:VEVENT
DTSTART;TZID=UTC:20180506T130000
DTEND;TZID=UTC:20180506T140000
DTSTAMP:20260425T111011
CREATED:20180316T190157Z
LAST-MODIFIED:20190210T060326Z
UID:10000010-1525611600-1525615200@foreseeablefuture.org
SUMMARY:Mobility and Balance
DESCRIPTION:Come join us as we work on our mobility and balance at the Chelsea Rec Center!
URL:https://foreseeablefuture.org/event/alexander-technique-workshop/
LOCATION:Chelsea Recreation Center\, 430 West 25th Street\, New York\, NY\, 10001\, United States
END:VEVENT
BEGIN:VEVENT
DTSTART;TZID=UTC:20180429T123000
DTEND;TZID=UTC:20180429T143000
DTSTAMP:20260425T111011
CREATED:20180419T233222Z
LAST-MODIFIED:20190210T060244Z
UID:10000011-1525005000-1525012200@foreseeablefuture.org
SUMMARY:Ice Hockey for the Visually Impaired
DESCRIPTION:A Free event! All ages and skill levels are welcome! \n 
URL:https://foreseeablefuture.org/event/ice-hockey-for-the-visually-impaired/
LOCATION:Dix Hills Ice Rink\, 575 Vanderbilt Pkwy\, Dix Hills\, NY\, 11746\, United States
END:VEVENT
BEGIN:VEVENT
DTSTART;TZID=UTC:20180428T093000
DTEND;TZID=UTC:20180428T113000
DTSTAMP:20260425T111011
CREATED:20180316T185410Z
LAST-MODIFIED:20190210T060223Z
UID:10000009-1524907800-1524915000@foreseeablefuture.org
SUMMARY:Running Past Sight
DESCRIPTION:We’re teaming up with Bluestone Lane to bring a guided walk/run to the VIP community. Come join us for some fresh air and exercise followed by delicious coffee.
URL:https://foreseeablefuture.org/event/running-past-sight/
LOCATION:Bluestone Lane Manhattan West\, 435 W 31st Street\, New York\, NY\, 10001\, United States
END:VEVENT
BEGIN:VEVENT
DTSTART;TZID=UTC:20180301T190000
DTEND;TZID=UTC:20180301T220000
DTSTAMP:20260425T111011
CREATED:20180110T225303Z
LAST-MODIFIED:20190210T060211Z
UID:10000007-1519930800-1519941600@foreseeablefuture.org
SUMMARY:Annual Gala: Seeing Past Sight 2018
DESCRIPTION:Ticket sales have ended.  We look forward to seeing you at the event!\nFor other inquiries\, please contact events@foreseeablefuturefoundation.com \nOn March 1st\, 2018\, The Foreseeable Future Foundation will host its first Annual Gala: Seeing Past Sight. Your contribution helps to develop adaptive sports opportunities for visually impaired children and adults. We are selling different sponsorship levels as well as individual tickets. Our Honoree this year is Jamie Salter. \nSpecial Guests: Jake Olson\, Dr. Lauren J Lieberman\, Martha Ruether and Dr. Max Gomez. \n** Dress: Business Casual \n 
URL:https://foreseeablefuture.org/event/annual-gala-seeing-past-sight-2018/
LOCATION:The Museum of the City of New York\, 1220 Fifth Avenue\, New York\, 10029\, United States
END:VEVENT
BEGIN:VEVENT
DTSTART;TZID=UTC:20180210T083000
DTEND;TZID=UTC:20180210T163000
DTSTAMP:20260425T111011
CREATED:20180111T233658Z
LAST-MODIFIED:20190210T060152Z
UID:10000008-1518251400-1518280200@foreseeablefuture.org
SUMMARY:3rd Annual Braille Challenge Competition
DESCRIPTION:The Foreseeable Future Foundation will have a booth at this year’s Annual Braille Challenge. We look forward to meeting the participants and other organizations. \nStudents in grades 1-12 are invited to compete in a series of five skills contests demonstrating braille reading and comprehension\, speed and accuracy\, spelling\, proofreading and tactile graphics.
URL:https://foreseeablefuture.org/event/3rd-annual-braille-challenge-competition/
LOCATION:John F. Kennedy Jr School\, 57-12 94th Street\, Queens\, 11373\, United States
END:VEVENT
BEGIN:VEVENT
DTSTART;TZID=UTC:20180203T123000
DTEND;TZID=UTC:20180203T133000
DTSTAMP:20260425T111011
CREATED:20180110T223848Z
LAST-MODIFIED:20190210T060142Z
UID:10000006-1517661000-1517664600@foreseeablefuture.org
SUMMARY:Swerve in the Dark
DESCRIPTION:Come join us for a spin at Swerve Fitness to raise money for adaptive gym equipment for the visually impaired.\nIndividual and group tickets available! \nTickets are currently closed for this event- join us for our next ride with Swerve soon!
URL:https://foreseeablefuture.org/event/swerve-in-the-dark/
LOCATION:Swerve Fitness — Flatiron\, 30 West 18th Street\, New York\, New York\, 10011\, United States
END:VEVENT
BEGIN:VEVENT
DTSTART;TZID=UTC:20180121T130000
DTEND;TZID=UTC:20180121T160000
DTSTAMP:20260425T111011
CREATED:20180110T221757Z
LAST-MODIFIED:20190210T055946Z
UID:10000005-1516539600-1516550400@foreseeablefuture.org
SUMMARY:Healthy Eating for the Eyes
DESCRIPTION:Come join us for a workshop on healthy eating for the visually impaired and blind. Special guest and Nutritionist\, Eliza Savage will speak about nutrition\, hydration\, snaking and vitamin intake for the visually impaired community. \nThis workshop hopes to promote healthy living for the visually impaired. The visually impaired have a much greater risk of obesity(1.5x greater) than those that do not have a visual impairment. We’re hoping to combat this statistic!
URL:https://foreseeablefuture.org/event/event-2018-01-21-healthy-eating/
LOCATION:Natural Gourmet Institute\, 48 W. 21st St. #2\, New York\, New York\, 10010
END:VEVENT
END:VCALENDAR