BEGIN:VCALENDAR
VERSION:2.0
PRODID:-//Foreseeable Future Foundation - ECPv6.15.20//NONSGML v1.0//EN
CALSCALE:GREGORIAN
METHOD:PUBLISH
X-ORIGINAL-URL:https://foreseeablefuture.org
X-WR-CALDESC:Events for Foreseeable Future Foundation
REFRESH-INTERVAL;VALUE=DURATION:PT1H
X-Robots-Tag:noindex
X-PUBLISHED-TTL:PT1H
BEGIN:VTIMEZONE
TZID:America/New_York
BEGIN:DAYLIGHT
TZOFFSETFROM:-0500
TZOFFSETTO:-0400
TZNAME:EDT
DTSTART:20240310T070000
END:DAYLIGHT
BEGIN:STANDARD
TZOFFSETFROM:-0400
TZOFFSETTO:-0500
TZNAME:EST
DTSTART:20241103T060000
END:STANDARD
BEGIN:DAYLIGHT
TZOFFSETFROM:-0500
TZOFFSETTO:-0400
TZNAME:EDT
DTSTART:20250309T070000
END:DAYLIGHT
BEGIN:STANDARD
TZOFFSETFROM:-0400
TZOFFSETTO:-0500
TZNAME:EST
DTSTART:20251102T060000
END:STANDARD
BEGIN:DAYLIGHT
TZOFFSETFROM:-0500
TZOFFSETTO:-0400
TZNAME:EDT
DTSTART:20260308T070000
END:DAYLIGHT
BEGIN:STANDARD
TZOFFSETFROM:-0400
TZOFFSETTO:-0500
TZNAME:EST
DTSTART:20261101T060000
END:STANDARD
END:VTIMEZONE
BEGIN:VEVENT
DTSTART;TZID=America/New_York:20251030T180000
DTEND;TZID=America/New_York:20251030T210000
DTSTAMP:20260423T194024
CREATED:20250910T223606Z
LAST-MODIFIED:20250916T174727Z
UID:10000185-1761847200-1761858000@foreseeablefuture.org
SUMMARY:Come to Your Senses 2025
DESCRIPTION:Step into an evening where sight takes a back seat and your other senses lead the way. Come to Your Senses is a blindfolded dinner hosted by Old Mates Pub and the Foreseeable Future Foundation. \nGuests will enjoy a multi-course meal\, a specialty cocktail\, and wine\, all while dining without sight. This unique experience invites you to explore flavor and texture in a new way\, sparking conversations and connections that highlight the realities of living with visual impairment. \nBy raising awareness\, this dining experience helps advance the Foreseeable Future Foundation’s mission of empowering blind and visually impaired individuals to live active\, connected lives. \nSeats are limited. Reserve your place today.
URL:https://foreseeablefuture.org/event/come-to-your-senses-2025/
LOCATION:Old Mates Pub\, 170 John St\, New York\, NY\, 10038\, United States
CATEGORIES:Fundraiser
ATTACH;FMTTYPE=image/jpeg:https://foreseeablefuture.org/wp-content/uploads/2025/09/Come-To-Your-Senses.jpg
ORGANIZER;CN="Foreseeable Future Foundation":MAILTO:fffoundationassist@gmail.com
END:VEVENT
END:VCALENDAR