BEGIN:VCALENDAR
VERSION:2.0
PRODID:-//Foreseeable Future Foundation - ECPv6.15.20//NONSGML v1.0//EN
CALSCALE:GREGORIAN
METHOD:PUBLISH
X-WR-CALNAME:Foreseeable Future Foundation
X-ORIGINAL-URL:https://foreseeablefuture.org
X-WR-CALDESC:Events for Foreseeable Future Foundation
REFRESH-INTERVAL;VALUE=DURATION:PT1H
X-Robots-Tag:noindex
X-PUBLISHED-TTL:PT1H
BEGIN:VTIMEZONE
TZID:America/New_York
BEGIN:DAYLIGHT
TZOFFSETFROM:-0500
TZOFFSETTO:-0400
TZNAME:EDT
DTSTART:20240310T070000
END:DAYLIGHT
BEGIN:STANDARD
TZOFFSETFROM:-0400
TZOFFSETTO:-0500
TZNAME:EST
DTSTART:20241103T060000
END:STANDARD
BEGIN:DAYLIGHT
TZOFFSETFROM:-0500
TZOFFSETTO:-0400
TZNAME:EDT
DTSTART:20250309T070000
END:DAYLIGHT
BEGIN:STANDARD
TZOFFSETFROM:-0400
TZOFFSETTO:-0500
TZNAME:EST
DTSTART:20251102T060000
END:STANDARD
BEGIN:DAYLIGHT
TZOFFSETFROM:-0500
TZOFFSETTO:-0400
TZNAME:EDT
DTSTART:20260308T070000
END:DAYLIGHT
BEGIN:STANDARD
TZOFFSETFROM:-0400
TZOFFSETTO:-0500
TZNAME:EST
DTSTART:20261101T060000
END:STANDARD
END:VTIMEZONE
BEGIN:VEVENT
DTSTART;VALUE=DATE:20250504
DTEND;VALUE=DATE:20250505
DTSTAMP:20260423T133620
CREATED:20250219T171920Z
LAST-MODIFIED:20250219T171920Z
UID:10000176-1746316800-1746403199@foreseeablefuture.org
SUMMARY:TD Five Boro Bike Tour 2025 with Team #SeeNoLimits
DESCRIPTION:Saturday\, May 4\, 2025\nStart: Tribeca\, NYC\nFinish: Staten Island\n\nGear up for an unforgettable adventure! Join us\, the Foreseeable Future Foundation\, and our incredible partners at the Lighthouse Guild for the iconic TD 5 Boro Bike Tour on May 4th in NYC! Pedal through all five boroughs\, soak in the sights\, and make every mile count by raising funds to transform the lives of the visually impaired. \nLet’s ride together\, make an impact\, and create brighter futures—one spin at a time! \nDon’t miss out—sign up now! \n  \n \n  \nRegister Here! \n  \n 
URL:https://foreseeablefuture.org/event/td-five-boro-bike-tour-2025-with-team-seenolimits/
LOCATION:NY
ATTACH;FMTTYPE=image/jpeg:https://foreseeablefuture.org/wp-content/uploads/2025/02/tandem_bike_featured-2025-750x750-c.jpg
END:VEVENT
END:VCALENDAR