BEGIN:VCALENDAR
VERSION:2.0
PRODID:-//Foreseeable Future Foundation - ECPv6.15.20//NONSGML v1.0//EN
CALSCALE:GREGORIAN
METHOD:PUBLISH
X-WR-CALNAME:Foreseeable Future Foundation
X-ORIGINAL-URL:https://foreseeablefuture.org
X-WR-CALDESC:Events for Foreseeable Future Foundation
REFRESH-INTERVAL;VALUE=DURATION:PT1H
X-Robots-Tag:noindex
X-PUBLISHED-TTL:PT1H
BEGIN:VTIMEZONE
TZID:America/New_York
BEGIN:DAYLIGHT
TZOFFSETFROM:-0500
TZOFFSETTO:-0400
TZNAME:EDT
DTSTART:20240310T070000
END:DAYLIGHT
BEGIN:STANDARD
TZOFFSETFROM:-0400
TZOFFSETTO:-0500
TZNAME:EST
DTSTART:20241103T060000
END:STANDARD
BEGIN:DAYLIGHT
TZOFFSETFROM:-0500
TZOFFSETTO:-0400
TZNAME:EDT
DTSTART:20250309T070000
END:DAYLIGHT
BEGIN:STANDARD
TZOFFSETFROM:-0400
TZOFFSETTO:-0500
TZNAME:EST
DTSTART:20251102T060000
END:STANDARD
BEGIN:DAYLIGHT
TZOFFSETFROM:-0500
TZOFFSETTO:-0400
TZNAME:EDT
DTSTART:20260308T070000
END:DAYLIGHT
BEGIN:STANDARD
TZOFFSETFROM:-0400
TZOFFSETTO:-0500
TZNAME:EST
DTSTART:20261101T060000
END:STANDARD
END:VTIMEZONE
BEGIN:VEVENT
DTSTART;TZID=America/New_York:20250412T160000
DTEND;TZID=America/New_York:20250412T180000
DTSTAMP:20260423T105748
CREATED:20250219T170446Z
LAST-MODIFIED:20250806T163729Z
UID:10000175-1744473600-1744480800@foreseeablefuture.org
SUMMARY:Come to Your Senses
DESCRIPTION:Embrace the extraordinary as you don a blindfold and embark on a remarkable 4-course sensory journey that will redefine your perception of dining. Experience flavors\, aromas\, and textures in a whole new way as you surrender your sight to enhance your other senses. \nTickets are priced at $125 per person and include:\n• 4-6 course meal\n• Coffee\, Tea\, Cold Pressed Juices\n• Brunch cocktails\, Beer and Wine\n• Enhanced sensory experience \nDate: April 12th\, 2025 \nTime: 4-6pm \nAddress: Bluestone Lane\n27 Brattle St.Cambridge\, MA  02138 \nSupporting TWO Worthy Causes! All ticket sales and auction entries will contribute to Foreseeable Future’s mission of enriching the lives of the visually impaired through sports and recreation AND support the mission of National Braille Press to empower the blindness community through braille and tactile resources\, programs and learning at a fair cost. By joining us\, you’ll not only enjoy an unforgettable experience but also make a meaningful difference in the lives of those who deserve our support. \n  \n \n  \nSponsorship Levels:\n$5\,000 Innovate and Motivate Sponsor\nTwo Tables of 8\nProminent Logo Placement on commemorative print-braille menu and on web and social media coverage \n$2\,500 Empowering the Future Sponsor\nOne Table of 8\nFeatured Logo Placement on print-braille\nmenu and on web and social media\ncoverage \n$1\,500 Sight Set on Impact Sponsor\nFour Tickets\nLogo Placement on print-braille menu and on web and social media coverage \n$500 Braille for Two Sponsor\nTwo tickets\nName Placement on web and social media coverage \n  \n \n  \nTo order tickets by phone\, call 617-425-2410 \n 
URL:https://foreseeablefuture.org/event/come-to-your-senses/
LOCATION:Bluestone Lane Harvard Square\, 27 Brattle St.\, Cambridge\, MA\, 021386\, United States
CATEGORIES:Fundraiser
ATTACH;FMTTYPE=image/png:https://foreseeablefuture.org/wp-content/uploads/2025/02/bluestone_harvard-3.png
ORGANIZER;CN="Foreseeable Future Foundation":MAILTO:fffoundationassist@gmail.com
END:VEVENT
END:VCALENDAR