BEGIN:VCALENDAR
VERSION:2.0
PRODID:-//Foreseeable Future Foundation - ECPv6.15.20//NONSGML v1.0//EN
CALSCALE:GREGORIAN
METHOD:PUBLISH
X-WR-CALNAME:Foreseeable Future Foundation
X-ORIGINAL-URL:https://foreseeablefuture.org
X-WR-CALDESC:Events for Foreseeable Future Foundation
REFRESH-INTERVAL;VALUE=DURATION:PT1H
X-Robots-Tag:noindex
X-PUBLISHED-TTL:PT1H
BEGIN:VTIMEZONE
TZID:America/New_York
BEGIN:DAYLIGHT
TZOFFSETFROM:-0500
TZOFFSETTO:-0400
TZNAME:EDT
DTSTART:20240310T070000
END:DAYLIGHT
BEGIN:STANDARD
TZOFFSETFROM:-0400
TZOFFSETTO:-0500
TZNAME:EST
DTSTART:20241103T060000
END:STANDARD
BEGIN:DAYLIGHT
TZOFFSETFROM:-0500
TZOFFSETTO:-0400
TZNAME:EDT
DTSTART:20250309T070000
END:DAYLIGHT
BEGIN:STANDARD
TZOFFSETFROM:-0400
TZOFFSETTO:-0500
TZNAME:EST
DTSTART:20251102T060000
END:STANDARD
BEGIN:DAYLIGHT
TZOFFSETFROM:-0500
TZOFFSETTO:-0400
TZNAME:EDT
DTSTART:20260308T070000
END:DAYLIGHT
BEGIN:STANDARD
TZOFFSETFROM:-0400
TZOFFSETTO:-0500
TZNAME:EST
DTSTART:20261101T060000
END:STANDARD
END:VTIMEZONE
BEGIN:VEVENT
DTSTART;TZID=America/New_York:20250326T173000
DTEND;TZID=America/New_York:20250326T193000
DTSTAMP:20260423T051936
CREATED:20250318T155647Z
LAST-MODIFIED:20250318T155647Z
UID:10000178-1743010200-1743017400@foreseeablefuture.org
SUMMARY:GHHS Best Buddies Dining in the Dark
DESCRIPTION:GHHS Best Buddies and the Foreseeable Future Foundation are hosting Dining in the Dark on Wednesday\, March 26th at 5:30! This is an incredible experience where you eat your dinner… blindfolded! \nThere will also be interactive experiences and raffle prizes for participating. This is an event that brings awareness about blindness and low vision. We are so excited to have McNamara’s Irish Pub & Restaurant catering the event. \nAdmission is free! \nPlease invite friends and family\, and make sure to RSVP by 3/21 \nRegistration Link \n 
URL:https://foreseeablefuture.org/event/dininginthedark2025/
LOCATION:Green Hill High School\, 200 N. Greenhill Road\, Mt. Juliet\, TN\, 37122\, United States
CATEGORIES:Dining in the Dark
END:VEVENT
END:VCALENDAR