BEGIN:VCALENDAR
VERSION:2.0
PRODID:-//Foreseeable Future Foundation - ECPv6.15.20//NONSGML v1.0//EN
CALSCALE:GREGORIAN
METHOD:PUBLISH
X-ORIGINAL-URL:https://foreseeablefuture.org
X-WR-CALDESC:Events for Foreseeable Future Foundation
REFRESH-INTERVAL;VALUE=DURATION:PT1H
X-Robots-Tag:noindex
X-PUBLISHED-TTL:PT1H
BEGIN:VTIMEZONE
TZID:America/New_York
BEGIN:DAYLIGHT
TZOFFSETFROM:-0500
TZOFFSETTO:-0400
TZNAME:EDT
DTSTART:20230312T070000
END:DAYLIGHT
BEGIN:STANDARD
TZOFFSETFROM:-0400
TZOFFSETTO:-0500
TZNAME:EST
DTSTART:20231105T060000
END:STANDARD
BEGIN:DAYLIGHT
TZOFFSETFROM:-0500
TZOFFSETTO:-0400
TZNAME:EDT
DTSTART:20240310T070000
END:DAYLIGHT
BEGIN:STANDARD
TZOFFSETFROM:-0400
TZOFFSETTO:-0500
TZNAME:EST
DTSTART:20241103T060000
END:STANDARD
BEGIN:DAYLIGHT
TZOFFSETFROM:-0500
TZOFFSETTO:-0400
TZNAME:EDT
DTSTART:20250309T070000
END:DAYLIGHT
BEGIN:STANDARD
TZOFFSETFROM:-0400
TZOFFSETTO:-0500
TZNAME:EST
DTSTART:20251102T060000
END:STANDARD
END:VTIMEZONE
BEGIN:VEVENT
DTSTART;TZID=America/New_York:20241012T180000
DTEND;TZID=America/New_York:20241012T210000
DTSTAMP:20260419T102228
CREATED:20240731T222259Z
LAST-MODIFIED:20250219T165315Z
UID:10000173-1728756000-1728766800@foreseeablefuture.org
SUMMARY:Come to Your Senses 2024
DESCRIPTION:Hosted by the team from Popcorn and Champagne\, the Foreseeable Future Foundation and Sight School came together for ‘Come to Your Senses’\, an event on October 12th at City Winery in Nashville\, TN. \nThis one-of-a-kind event offered an immersive experience to engage and educate attendees about the challenges of visual impairments and how they can be overcome. \nParalympic athletes like Joseph Grey\, Lex Gillette\, Isaac Jean-Paul\, and others shared inspiring stories of resilience. Guests also participated in blind tastings\, relying on their partners to guide them through the courses\, deepening their appreciation for other senses. \nThank you to everyone who joined us for this unforgettable evening! \n    \n  \n  \n\nWhen: Saturday\, October 12\, 2024\nTime: 6:00 PM to 9:00 PM\nWhere:  City Winery\, Nashville\, Tennessee\nPrice: $250 per ticket (100% tax-deductible)\nRed Carpet Experience: Hosted by Popcorn and Champagne\, this glamorous entrance\nsets the tone for an extraordinary evening. Guests will walk the red carpet\, welcomed by\ninterviews and photo opportunities\, capturing the excitement and anticipation. It’s an\nideal way to start the event\, making every attendee feel like a VIP.\nForeseeable Future’s Dining in the Dark & Sight School’s Sightless Sippin’:  This\nwill be a unique and unforgettable evening unlike anything you’ve experienced. The\nevent combines gourmet dining and beverage tasting\, crafted to heighten your senses\nand broaden your perspective by exposing you to life as a person who is blind or visually\nimpaired.\nInspiring Speakers: Acquire insights from Foreseeable Future Foundation founder\nGriffin Pinkow\, Sight School co-founders Lex Gillette and Joseph Gray\, and other\ninspirational guests sharing their influential stories and triumphs.\nCity Winery open bar and dinner selections: Enjoy a variety of gourmet dishes and\npremium beverages throughout the evening.\nSilent Auction: Bid on exclusive sports memorabilia and other highly sought-after items.\nThis is a rare opportunity to own exceptional pieces while supporting a noble cause. The\nauction promises to be an exciting part of the evening\, offering prizes to capture sports\nenthusiasts and collectors’ hearts.\nSouvenirs: Take home premier-themed mementos and merchandise from this\nextraordinary event.\n\n  \nBecome a Sponsor:\nYour support is invaluable in helping us create a memorable and impactful event. All\nsponsorship contributions are 100% tax-deductible\, giving you maximum visibility for your brand\nand demonstrating your commitment to social responsibility. Together\, we can make a\nmeaningful difference in the lives of the blind and visually impaired community. For more\ninformation or to become a sponsor\, please get in touch with us. \n 
URL:https://foreseeablefuture.org/event/come-to-your-senses-2024/
LOCATION:City Winery\, 609 Lafayette St\, Nashville\, TN\, 37203\, United States
CATEGORIES:Fundraiser
ATTACH;FMTTYPE=image/jpeg:https://foreseeablefuture.org/wp-content/uploads/2024/07/1000010256.jpg
ORGANIZER;CN="Foreseeable Future Foundation":MAILTO:fffoundationassist@gmail.com
END:VEVENT
END:VCALENDAR